BEGIN:VCALENDAR
VERSION:2.0
PRODID:Events from www.apparelnews.net
X-WR-CALNAME:Events from www.apparelnews.net
X-WR-CALDESC:Events from www.apparelnews.net
BEGIN:VEVENT
SUMMARY:Retail's Big Show\, NRF's Annual Convention
URL;VALUE=URI:http://www.apparelnews.net/events/2026/jan/11/retails-big-show-nrfs-annual-conven-507c3654/?et=26384
DTSTART:20260111
DESCRIPTION;ENCODING=QUOTED-PRINTABLE:www.nrf.com\n\n(800) 673-4692

END:VEVENT
END:VCALENDAR
