BEGIN:VCALENDAR
VERSION:2.0
PRODID:Events from www.apparelnews.net
X-WR-CALNAME:Events from www.apparelnews.net
X-WR-CALDESC:Events from www.apparelnews.net
BEGIN:VEVENT
SUMMARY:Supreme Kids
URL;VALUE=URI:http://www.apparelnews.net/events/2026/jan/23/supreme-kids-f1784d68-c81192ea/?et=26569
DTSTART:20260123
DESCRIPTION;ENCODING=QUOTED-PRINTABLE:https://thesupremegroup.de/trade-shows/kids/

END:VEVENT
END:VCALENDAR
