BEGIN:VCALENDAR
VERSION:2.0
PRODID:Events from www.apparelnews.net
X-WR-CALNAME:Events from www.apparelnews.net
X-WR-CALDESC:Events from www.apparelnews.net
BEGIN:VEVENT
SUMMARY:Modefabriek Amsterdam Fashion Trade Event
URL;VALUE=URI:http://www.apparelnews.net/events/2026/jul/05/modefabriek-amsterdam-fashion-trade-0e0a3354/?et=27196
DTSTART:20260705
DESCRIPTION;ENCODING=QUOTED-PRINTABLE:http://www.modefabriek.nl/\n\n&nbsp;

END:VEVENT
END:VCALENDAR
