BEGIN:VCALENDAR
VERSION:2.0
PRODID:Events from www.apparelnews.net
X-WR-CALNAME:Events from www.apparelnews.net
X-WR-CALDESC:Events from www.apparelnews.net
BEGIN:VEVENT
SUMMARY:Spinexpo New York
URL;VALUE=URI:http://www.apparelnews.net/events/2026/jul/08/spinexpo-799a56ee-775d3412-40bb7f04-4511bb1c/?et=27137
DTSTART:20260708
DESCRIPTION;ENCODING=QUOTED-PRINTABLE:http://www.spinexpo.com

END:VEVENT
END:VCALENDAR
