BEGIN:VCALENDAR
VERSION:2.0
PRODID:Events from www.apparelnews.net
X-WR-CALNAME:Events from www.apparelnews.net
X-WR-CALDESC:Events from www.apparelnews.net
BEGIN:VEVENT
SUMMARY:CBME Children Baby Maternity Expo
URL;VALUE=URI:http://www.apparelnews.net/events/2026/jul/15/cbme-children-baby-maternity-expo-a-50ca1972/?et=27231
DTSTART:20260715
DESCRIPTION;ENCODING=QUOTED-PRINTABLE:http://www.cbmexpo.com/en/

END:VEVENT
END:VCALENDAR
