BEGIN:VCALENDAR
VERSION:2.0
PRODID:Events from www.apparelnews.net
X-WR-CALNAME:Events from www.apparelnews.net
X-WR-CALDESC:Events from www.apparelnews.net
BEGIN:VEVENT
SUMMARY:Lineapelle New York
URL;VALUE=URI:http://www.apparelnews.net/events/2026/jul/15/lineapelle-new-york-a1137a94-d3d341-eb588774/?et=27434
DTSTART:20260715
DESCRIPTION;ENCODING=QUOTED-PRINTABLE:http://newyork.lineapelle-fair.com

END:VEVENT
END:VCALENDAR
