BEGIN:VCALENDAR
VERSION:2.0
PRODID:Events from www.apparelnews.net
X-WR-CALNAME:Events from www.apparelnews.net
X-WR-CALDESC:Events from www.apparelnews.net
BEGIN:VEVENT
SUMMARY:Spinexpo Hong Kong
URL;VALUE=URI:http://www.apparelnews.net/events/2026/jul/15/spinexpo-hong-kong-5de8a85a-9d18c4f-e1a4ca64/?et=27139
DTSTART:20260715
DESCRIPTION;ENCODING=QUOTED-PRINTABLE:http://www.spinexpo.com

END:VEVENT
END:VCALENDAR
