BEGIN:VCALENDAR
VERSION:2.0
PRODID:Events from www.apparelnews.net
X-WR-CALNAME:Events from www.apparelnews.net
X-WR-CALDESC:Events from www.apparelnews.net
BEGIN:VEVENT
SUMMARY:Momad
URL;VALUE=URI:http://www.apparelnews.net/events/2026/jul/23/bisutex-intergift-madridjoya-1f609d-8cd9c366/?et=27397
DTSTART:20260723
DESCRIPTION;ENCODING=QUOTED-PRINTABLE:www.ifema.es

END:VEVENT
END:VCALENDAR
