BEGIN:VCALENDAR
VERSION:2.0
PRODID:Events from www.apparelnews.net
X-WR-CALNAME:Events from www.apparelnews.net
X-WR-CALDESC:Events from www.apparelnews.net
BEGIN:VEVENT
SUMMARY:Supreme Body & Beach
URL;VALUE=URI:http://www.apparelnews.net/events/2026/jul/26/supreme-body-beach-0fb57cec-84b3fcc-c0d918e4/?et=27039
DTSTART:20260726
DESCRIPTION;ENCODING=QUOTED-PRINTABLE:https://www.thesupremegroup.de/en/tradeshows

END:VEVENT
END:VCALENDAR
