BEGIN:VCALENDAR
VERSION:2.0
PRODID:Events from www.apparelnews.net
X-WR-CALNAME:Events from www.apparelnews.net
X-WR-CALDESC:Events from www.apparelnews.net
BEGIN:VEVENT
SUMMARY:The Innovative Retail (IR) Show
URL;VALUE=URI:http://www.apparelnews.net/events/2026/jul/28/the-innovative-retail-ir-show/?et=27587
DTSTART:20260728
DESCRIPTION;ENCODING=QUOTED-PRINTABLE:https://web.cvent.com/event/5ade8113-c200-4f09-bb26-b29517fbde85/summary

END:VEVENT
END:VCALENDAR
