BEGIN:VCALENDAR
VERSION:2.0
PRODID:Events from www.apparelnews.net
X-WR-CALNAME:Events from www.apparelnews.net
X-WR-CALDESC:Events from www.apparelnews.net
BEGIN:VEVENT
SUMMARY:Edmonton Footwear & Accessory Buying Market
URL;VALUE=URI:http://www.apparelnews.net/events/2026/jul/30/edmonton-footwear-accessory-buying--6b12f956/?et=27264
DTSTART:20260730
DESCRIPTION;ENCODING=QUOTED-PRINTABLE:www.wcsa.ca

END:VEVENT
END:VCALENDAR
