BEGIN:VCALENDAR
VERSION:2.0
PRODID:Events from www.apparelnews.net
X-WR-CALNAME:Events from www.apparelnews.net
X-WR-CALDESC:Events from www.apparelnews.net
BEGIN:VEVENT
SUMMARY:Dye + Chem Asia International Expo
URL;VALUE=URI:http://www.apparelnews.net/events/2026/jun/03/dye-chem-bangladesh-4c8d530e-6e3c21-182d1340/?et=27504
DTSTART:20260603
DESCRIPTION;ENCODING=QUOTED-PRINTABLE:https://www.dyechem-asia.com/www.cems-dyechem.com

END:VEVENT
END:VCALENDAR
