BEGIN:VCALENDAR
VERSION:2.0
PRODID:Events from www.apparelnews.net
X-WR-CALNAME:Events from www.apparelnews.net
X-WR-CALDESC:Events from www.apparelnews.net
BEGIN:VEVENT
SUMMARY:Shoptalk Europe
URL;VALUE=URI:http://www.apparelnews.net/events/2026/jun/10/shoptalk-222e2d78-37c1b33e-0a015322-054f13d6/?et=27076
DTSTART:20260610
DESCRIPTION;ENCODING=QUOTED-PRINTABLE:https://shoptalk.com/\n\nConference for large retailers and branded manufacturers\, startups\, tech companies\, investors\, media and analysts.

END:VEVENT
END:VCALENDAR
