BEGIN:VCALENDAR
VERSION:2.0
PRODID:Events from www.apparelnews.net
X-WR-CALNAME:Events from www.apparelnews.net
X-WR-CALDESC:Events from www.apparelnews.net
BEGIN:VEVENT
SUMMARY:Interfilière Preview Paris
URL;VALUE=URI:http://www.apparelnews.net/events/2026/jun/17/interfiliere-tba-4ccce38e-edb2bbc2--5fa19a7a/?et=27369
DTSTART:20260617
DESCRIPTION;ENCODING=QUOTED-PRINTABLE:https://saloninternationaldelalingerie.com/interfiliere-paris-preview/https://saloninternationaldelalingerie.com/interfiliere-paris-en/

END:VEVENT
END:VCALENDAR
