BEGIN:VCALENDAR
VERSION:2.0
PRODID:Events from www.apparelnews.net
X-WR-CALNAME:Events from www.apparelnews.net
X-WR-CALDESC:Events from www.apparelnews.net
BEGIN:VEVENT
SUMMARY:International Apparel & Textile Fair Dubai
URL;VALUE=URI:http://www.apparelnews.net/events/2026/jun/25/international-apparel-textile-fair--90e35a68/?et=27004
DTSTART:20260625
DESCRIPTION;ENCODING=QUOTED-PRINTABLE:http://www.internationalapparelandtextilefair.com

END:VEVENT
END:VCALENDAR
