BEGIN:VCALENDAR
VERSION:2.0
PRODID:Events from www.apparelnews.net
X-WR-CALNAME:Events from www.apparelnews.net
X-WR-CALDESC:Events from www.apparelnews.net
BEGIN:VEVENT
SUMMARY:Playtime Paris
URL;VALUE=URI:http://www.apparelnews.net/events/2026/jun/27/playtime-paris-tba-6570c1e4-613c4be-c03b54c4/?et=27173
DTSTART:20260627
DESCRIPTION;ENCODING=QUOTED-PRINTABLE:www.playtimeparis.com

END:VEVENT
END:VCALENDAR
