BEGIN:VCALENDAR
VERSION:2.0
PRODID:Events from www.apparelnews.net
X-WR-CALNAME:Events from www.apparelnews.net
X-WR-CALDESC:Events from www.apparelnews.net
BEGIN:VEVENT
SUMMARY:Jumble Showroom Paris
URL;VALUE=URI:http://www.apparelnews.net/events/2026/jun/28/showroom-jumble-paris-a5a0df58-7e07-3366cc4a/?et=27169
DTSTART:20260628
DESCRIPTION;ENCODING=QUOTED-PRINTABLE:https://jumble-tokyo.com/showroom-jumble-paris/

END:VEVENT
END:VCALENDAR
