BEGIN:VCALENDAR
VERSION:2.0
PRODID:Events from www.apparelnews.net
X-WR-CALNAME:Events from www.apparelnews.net
X-WR-CALDESC:Events from www.apparelnews.net
BEGIN:VEVENT
SUMMARY:Preview Women
URL;VALUE=URI:http://www.apparelnews.net/events/2026/jun/29/cast-preview-women-fad6664e-aa7a6d4-10b28e48/?et=27122
DTSTART:20260629
DESCRIPTION;ENCODING=QUOTED-PRINTABLE:https://www.cast.nl/en/previewBoutique fashion trade show

END:VEVENT
END:VCALENDAR
