BEGIN:VCALENDAR
VERSION:2.0
PRODID:Events from www.apparelnews.net
X-WR-CALNAME:Events from www.apparelnews.net
X-WR-CALDESC:Events from www.apparelnews.net
BEGIN:VEVENT
SUMMARY:France Licensing Day
URL;VALUE=URI:http://www.apparelnews.net/events/2026/jun/30/licensing-expo-af222dd6-9e843826-d5-395895b8/?et=27014
DTSTART:20260630
DESCRIPTION;ENCODING=QUOTED-PRINTABLE:https://www.francelicensingday.com/https://www.brandlicensing.eu/en/home.html

END:VEVENT
END:VCALENDAR
