BEGIN:VCALENDAR
VERSION:2.0
PRODID:Events from www.apparelnews.net
X-WR-CALNAME:Events from www.apparelnews.net
X-WR-CALDESC:Events from www.apparelnews.net
BEGIN:VEVENT
SUMMARY:CHIC--China International Fashion Fair
URL;VALUE=URI:http://www.apparelnews.net/events/2026/mar/12/chic-e0b5c820-4342b5f4-96105a92-821-7168dc16/?et=26779
DTSTART:20260312
DESCRIPTION;ENCODING=QUOTED-PRINTABLE:www.chiconline.com.cn\n\nhttps://ensept.chicfair.com/\n\n86-10-65050546

END:VEVENT
END:VCALENDAR
