BEGIN:VCALENDAR
VERSION:2.0
PRODID:Events from www.apparelnews.net
X-WR-CALNAME:Events from www.apparelnews.net
X-WR-CALDESC:Events from www.apparelnews.net
BEGIN:VEVENT
SUMMARY:Performance Days Functional Fabric Fair
URL;VALUE=URI:http://www.apparelnews.net/events/2026/mar/18/performance-days-functional-fabric--e412047e/?et=26297
DTSTART:20260318
DESCRIPTION;ENCODING=QUOTED-PRINTABLE:https://www.performancedays.com/

END:VEVENT
END:VCALENDAR
