BEGIN:VCALENDAR
VERSION:2.0
PRODID:Events from www.apparelnews.net
X-WR-CALNAME:Events from www.apparelnews.net
X-WR-CALDESC:Events from www.apparelnews.net
BEGIN:VEVENT
SUMMARY:CALA Seattle
URL;VALUE=URI:http://www.apparelnews.net/events/2026/may/19/cala-dc809c8e-32eaf9e0-294ddde6-517-54022c90/?et=27059
DTSTART:20260519
DESCRIPTION;ENCODING=QUOTED-PRINTABLE:www.calashows.com

END:VEVENT
END:VCALENDAR
