BEGIN:VCALENDAR
VERSION:2.0
PRODID:Events from www.apparelnews.net
X-WR-CALNAME:Events from www.apparelnews.net
X-WR-CALDESC:Events from www.apparelnews.net
BEGIN:VEVENT
SUMMARY:Curve Miami
URL;VALUE=URI:http://www.apparelnews.net/events/2026/may/30/curve-los-angeles-d2f3815a-aec1d2d0-04783e84/?et=27367
DTSTART:20260530
DESCRIPTION;ENCODING=QUOTED-PRINTABLE:https://www.curve-losangeles.com/

END:VEVENT
END:VCALENDAR
