BEGIN:VCALENDAR
VERSION:2.0
PRODID:Events from www.apparelnews.net
X-WR-CALNAME:Events from www.apparelnews.net
X-WR-CALDESC:Events from www.apparelnews.net
BEGIN:VEVENT
SUMMARY:Maroc in Mode (M.I.M.)
URL;VALUE=URI:http://www.apparelnews.net/events/2026/nov/03/maroc-mode-mim-9ba430a4-fcf13e8e/?et=27480
DTSTART:20261103
DESCRIPTION;ENCODING=QUOTED-PRINTABLE:https://mim.org.ma/

END:VEVENT
END:VCALENDAR
