BEGIN:VCALENDAR
VERSION:2.0
PRODID:Events from www.apparelnews.net
X-WR-CALNAME:Events from www.apparelnews.net
X-WR-CALDESC:Events from www.apparelnews.net
BEGIN:VEVENT
SUMMARY:Dye+Chem Morocco International Expo
URL;VALUE=URI:http://www.apparelnews.net/events/2026/nov/03/textech-international-expo-f11453d8-191de930/?et=27485
DTSTART:20261103
DESCRIPTION;ENCODING=QUOTED-PRINTABLE:https://dyechem-morocco.com/www.cems-textech.com

END:VEVENT
END:VCALENDAR
