BEGIN:VCALENDAR
VERSION:2.0
PRODID:Events from www.apparelnews.net
X-WR-CALNAME:Events from www.apparelnews.net
X-WR-CALDESC:Events from www.apparelnews.net
BEGIN:VEVENT
SUMMARY:ASFW (Texworld\, ApparelSourcing\, Texprocess)
URL;VALUE=URI:http://www.apparelnews.net/events/2026/nov/12/africa-sourcing-and-fashion-week-5a-ed34ee60/?et=27474
DTSTART:20261112
DESCRIPTION;ENCODING=QUOTED-PRINTABLE:https://www.asfw-online.com/\n\nAfrica Sourcing and Fashion Week\n\nTexprocess\, Texworld\, ApparelSourcing\, leather\, footwear\, home

END:VEVENT
END:VCALENDAR
