BEGIN:VCALENDAR
VERSION:2.0
PRODID:Events from www.apparelnews.net
X-WR-CALNAME:Events from www.apparelnews.net
X-WR-CALDESC:Events from www.apparelnews.net
BEGIN:VEVENT
SUMMARY:Denim Première Vision Milan
URL;VALUE=URI:http://www.apparelnews.net/events/2026/nov/25/denim-premiere-vision-tba-4c7c82b8--0ef51246/?et=27017
DTSTART:20261125
DESCRIPTION;ENCODING=QUOTED-PRINTABLE:https://denim.premierevision.com/en/

END:VEVENT
END:VCALENDAR
