BEGIN:VCALENDAR
VERSION:2.0
PRODID:Events from www.apparelnews.net
X-WR-CALNAME:Events from www.apparelnews.net
X-WR-CALDESC:Events from www.apparelnews.net
BEGIN:VEVENT
SUMMARY:MIX Chicago Apparel + Accessories
URL;VALUE=URI:http://www.apparelnews.net/events/2026/oct/05/michigan-womens-wear-market-tba-bdd-b249e202/?et=27089
DTSTART:20261005
DESCRIPTION;ENCODING=QUOTED-PRINTABLE:http://www.silverliningshows.com/

END:VEVENT
END:VCALENDAR
