BEGIN:VCALENDAR
VERSION:2.0
PRODID:Events from www.apparelnews.net
X-WR-CALNAME:Events from www.apparelnews.net
X-WR-CALDESC:Events from www.apparelnews.net
BEGIN:VEVENT
SUMMARY:Taipei Innovative Textile Application Show (TITAS)
URL;VALUE=URI:http://www.apparelnews.net/events/2026/oct/06/taipei-innovative-textile-applicati-a9988cfa/?et=27455
DTSTART:20261006
DESCRIPTION;ENCODING=QUOTED-PRINTABLE:https://titas.tw/en-us/

END:VEVENT
END:VCALENDAR
