BEGIN:VCALENDAR
VERSION:2.0
PRODID:Events from www.apparelnews.net
X-WR-CALNAME:Events from www.apparelnews.net
X-WR-CALDESC:Events from www.apparelnews.net
BEGIN:VEVENT
SUMMARY:Performance Days Functional Fabric Fair
URL;VALUE=URI:http://www.apparelnews.net/events/2026/oct/13/performance-days-functional-fabric--a80d16d4/?et=27237
DTSTART:20261013
DESCRIPTION;ENCODING=QUOTED-PRINTABLE:https://www.performancedays.com/

END:VEVENT
END:VCALENDAR
