BEGIN:VCALENDAR
VERSION:2.0
PRODID:Events from www.apparelnews.net
X-WR-CALNAME:Events from www.apparelnews.net
X-WR-CALDESC:Events from www.apparelnews.net
BEGIN:VEVENT
SUMMARY:ITMF Annual Conference & IAF World Fashion Convention
URL;VALUE=URI:http://www.apparelnews.net/events/2026/oct/15/spesa-advancement-conference-aad105-e075af6c/?et=27472
DTSTART:20261015
DESCRIPTION;ENCODING=QUOTED-PRINTABLE:https://www.itmf-iaf-conference-2025-yogyakarta.org/https://www.spesa.org/www.iafnet.comOrganized by International Apparel Federation and&nbsp;Sewn Product Equipment &amp; Suppliers of the Americas

END:VEVENT
END:VCALENDAR
