BEGIN:VCALENDAR
VERSION:2.0
PRODID:Events from www.apparelnews.net
X-WR-CALNAME:Events from www.apparelnews.net
X-WR-CALDESC:Events from www.apparelnews.net
BEGIN:VEVENT
SUMMARY:Impressions Expo Dallas
URL;VALUE=URI:http://www.apparelnews.net/events/2026/oct/23/imprinted-sportswear-shows-houston--5116e850/?et=27449
DTSTART:20261023
DESCRIPTION;ENCODING=QUOTED-PRINTABLE:https://impressionsexpo.com/\n\nFormerly&nbsp;Imprinted Sportswear Shows

END:VEVENT
END:VCALENDAR
