BEGIN:VCALENDAR
VERSION:2.0
PRODID:Events from www.apparelnews.net
X-WR-CALNAME:Events from www.apparelnews.net
X-WR-CALDESC:Events from www.apparelnews.net
BEGIN:VEVENT
SUMMARY:Apparel Sourcing Paris
URL;VALUE=URI:http://www.apparelnews.net/events/2026/sep/02/apparel-sourcing-paris-spring-6d9cc-66fe5e32/?et=27423
DTSTART:20260902
DESCRIPTION;ENCODING=QUOTED-PRINTABLE:https://texworld-paris.fr.messefrankfurt.com/paris/en.html

END:VEVENT
END:VCALENDAR
