BEGIN:VCALENDAR
VERSION:2.0
PRODID:Events from www.apparelnews.net
X-WR-CALNAME:Events from www.apparelnews.net
X-WR-CALDESC:Events from www.apparelnews.net
BEGIN:VEVENT
SUMMARY:Shoes & Bags Open Days
URL;VALUE=URI:http://www.apparelnews.net/events/2026/sep/07/fashion-accessories-happening-d473d2a2/?et=27644
DTSTART:20260907
DESCRIPTION;ENCODING=QUOTED-PRINTABLE:https://trademart.be/nl/events/2026/shoes-bags-open-days-augustus-2026

END:VEVENT
END:VCALENDAR
