BEGIN:VCALENDAR
VERSION:2.0
PRODID:Events from www.apparelnews.net
X-WR-CALNAME:Events from www.apparelnews.net
X-WR-CALDESC:Events from www.apparelnews.net
BEGIN:VEVENT
SUMMARY:Shwrm New York
URL;VALUE=URI:http://www.apparelnews.net/events/2026/sep/11/shwrm-new-york-80546ba6-bae1ed98-bf-50a1b784/?et=27415
DTSTART:20260911
DESCRIPTION;ENCODING=QUOTED-PRINTABLE:https://theshwrm.com

END:VEVENT
END:VCALENDAR
