BEGIN:VCALENDAR
VERSION:2.0
PRODID:Events from www.apparelnews.net
X-WR-CALNAME:Events from www.apparelnews.net
X-WR-CALDESC:Events from www.apparelnews.net
BEGIN:VEVENT
SUMMARY:Texhibition Istanbul Fabric and Textile Accessories Fair
URL;VALUE=URI:http://www.apparelnews.net/events/2026/sep/11/texhibition-istanbul-fabric-and-tex-6e1d9862/?et=27314
DTSTART:20260911
DESCRIPTION;ENCODING=QUOTED-PRINTABLE:https://www.texhibitionist.com/en

END:VEVENT
END:VCALENDAR
