BEGIN:VCALENDAR
VERSION:2.0
PRODID:Events from www.apparelnews.net
X-WR-CALNAME:Events from www.apparelnews.net
X-WR-CALDESC:Events from www.apparelnews.net
BEGIN:VEVENT
SUMMARY:Yarnex\, TexIndia\, Apparel Sourcing Fair
URL;VALUE=URI:http://www.apparelnews.net/events/2026/sep/24/yarnex-india-international-yarn-exh-eac1d976/?et=27209
DTSTART:20260924
DESCRIPTION;ENCODING=QUOTED-PRINTABLE:https://textilefairsindia.comhttps://textilefairsindia.com/tirupur.php

END:VEVENT
END:VCALENDAR
