BEGIN:VCALENDAR
VERSION:2.0
PRODID:Events from www.apparelnews.net
X-WR-CALNAME:Events from www.apparelnews.net
X-WR-CALDESC:Events from www.apparelnews.net
BEGIN:VEVENT
SUMMARY:APLF Leather\, Materials+ Hong Kong
URL;VALUE=URI:http://www.apparelnews.net/events/2027/apr/02/aplf-leather-materials-hong-kong-8e-46c3a988/?et=27350
DTSTART:20270402
DESCRIPTION;ENCODING=QUOTED-PRINTABLE:www.aplf.com

END:VEVENT
END:VCALENDAR
