BEGIN:VCALENDAR
VERSION:2.0
PRODID:Events from www.apparelnews.net
X-WR-CALNAME:Events from www.apparelnews.net
X-WR-CALDESC:Events from www.apparelnews.net
BEGIN:VEVENT
SUMMARY:Edmonton Footwear & Accessory Buying Market
URL;VALUE=URI:http://www.apparelnews.net/events/2027/jan/31/edmonton-footwear-accessory-buying--d66853c2/?et=27273
DTSTART:20270131
DESCRIPTION;ENCODING=QUOTED-PRINTABLE:www.wcsa.ca

END:VEVENT
END:VCALENDAR
