BEGIN:VCALENDAR
VERSION:2.0
PRODID:Events from www.apparelnews.net
X-WR-CALNAME:Events from www.apparelnews.net
X-WR-CALDESC:Events from www.apparelnews.net
BEGIN:VEVENT
SUMMARY:India Leather Days
URL;VALUE=URI:http://www.apparelnews.net/events/2017/nov/09/india-leather-days-tba/?et=10460
DTSTART:20171109
DESCRIPTION;ENCODING=QUOTED-PRINTABLE:http://www.messe-offenbach.de/india-leather-days/

END:VEVENT
END:VCALENDAR
