BEGIN:VCALENDAR
VERSION:2.0
PRODID:Events from www.apparelnews.net
X-WR-CALNAME:Events from www.apparelnews.net
X-WR-CALDESC:Events from www.apparelnews.net
BEGIN:VEVENT
SUMMARY:LA Majors Market
URL;VALUE=URI:http://www.apparelnews.net/events/2017/oct/04/la-majors-market-0a7d79c0/?et=10203
DTSTART:20171004
DESCRIPTION;ENCODING=QUOTED-PRINTABLE:California Market Center;&nbsp;www.californiamarketcenter.com&nbsp;; (213) 630-3600

END:VEVENT
END:VCALENDAR
