BEGIN:VCALENDAR
VERSION:2.0
PRODID:Events from www.apparelnews.net
X-WR-CALNAME:Events from www.apparelnews.net
X-WR-CALDESC:Events from www.apparelnews.net
BEGIN:VEVENT
SUMMARY:Select\, Emerge\, ALT\, Transit
URL;VALUE=URI:http://www.apparelnews.net/events/2017/oct/09/se/?et=8828
DTSTART:20171009
DESCRIPTION;ENCODING=QUOTED-PRINTABLE:California Market Center; www.californiamarketcenter.com ; (213) 630-3600

END:VEVENT
END:VCALENDAR
