BEGIN:VCALENDAR
VERSION:2.0
PRODID:Events from www.apparelnews.net
X-WR-CALNAME:Events from www.apparelnews.net
X-WR-CALDESC:Events from www.apparelnews.net
BEGIN:VEVENT
SUMMARY:Coachella Style Artist Lounge
URL;VALUE=URI:http://www.apparelnews.net/events/2018/apr/13/style-fashion-week-palm-springs-tba-6949044a/?et=12054
DTSTART:20180413
DESCRIPTION;ENCODING=QUOTED-PRINTABLE:
Palm Springs
END:VEVENT
END:VCALENDAR
