BEGIN:VCALENDAR
VERSION:2.0
PRODID:Events from www.apparelnews.net
X-WR-CALNAME:Events from www.apparelnews.net
X-WR-CALDESC:Events from www.apparelnews.net
BEGIN:VEVENT
SUMMARY:Coast Delray Beach
URL;VALUE=URI:http://www.apparelnews.net/events/2018/jan/11/coast-delray-beach-tba/?et=11030
DTSTART:20180111
DESCRIPTION;ENCODING=QUOTED-PRINTABLE:www.coastshows.com

END:VEVENT
END:VCALENDAR
