BEGIN:VCALENDAR
VERSION:2.0
PRODID:Events from www.apparelnews.net
X-WR-CALNAME:Events from www.apparelnews.net
X-WR-CALDESC:Events from www.apparelnews.net
BEGIN:VEVENT
SUMMARY:Northwest Shoe Travelers Market
URL;VALUE=URI:http://www.apparelnews.net/events/2018/jan/21/northwest-shoe-travelers-market-90fe6026/?et=10668
DTSTART:20180121
DESCRIPTION;ENCODING=QUOTED-PRINTABLE:www.nwshoetravelers.com

END:VEVENT
END:VCALENDAR
