BEGIN:VCALENDAR
VERSION:2.0
PRODID:Events from www.apparelnews.net
X-WR-CALNAME:Events from www.apparelnews.net
X-WR-CALDESC:Events from www.apparelnews.net
BEGIN:VEVENT
SUMMARY:Norton's Apparel\, Jewelry & Gift Market
URL;VALUE=URI:http://www.apparelnews.net/events/2018/jun/02/nortons-apparel-jewelry-gift-market-f20ac0e6/?et=11110
DTSTART:20180602
DESCRIPTION;ENCODING=QUOTED-PRINTABLE:www.nortonshows.com

END:VEVENT
END:VCALENDAR
