BEGIN:VCALENDAR
VERSION:2.0
PRODID:Events from www.apparelnews.net
X-WR-CALNAME:Events from www.apparelnews.net
X-WR-CALDESC:Events from www.apparelnews.net
BEGIN:VEVENT
SUMMARY:Northstar Fashion Exhibitors
URL;VALUE=URI:http://www.apparelnews.net/events/2018/jun/11/northstar-fashion-exhibitors-f1bad2fc/?et=11000
DTSTART:20180611
DESCRIPTION;ENCODING=QUOTED-PRINTABLE:www.northstarfashion.com

END:VEVENT
END:VCALENDAR
