BEGIN:VCALENDAR
VERSION:2.0
PRODID:Events from www.apparelnews.net
X-WR-CALNAME:Events from www.apparelnews.net
X-WR-CALDESC:Events from www.apparelnews.net
BEGIN:VEVENT
SUMMARY:China Bags Show
URL;VALUE=URI:http://www.apparelnews.net/events/2018/jun/21/ilm-international-leather-goods-fai-ff2e5760/?et=12678
DTSTART:20180621
DESCRIPTION;ENCODING=QUOTED-PRINTABLE:www.messe-offenbach.de

END:VEVENT
END:VCALENDAR
