BEGIN:VCALENDAR
VERSION:2.0
PRODID:Events from www.apparelnews.net
X-WR-CALNAME:Events from www.apparelnews.net
X-WR-CALDESC:Events from www.apparelnews.net
BEGIN:VEVENT
SUMMARY:I.L.M. International Leather Goods Fair
URL;VALUE=URI:http://www.apparelnews.net/events/2018/mar/04/ilm-international-leather-goods-fai/?et=12096
DTSTART:20180304
DESCRIPTION;ENCODING=QUOTED-PRINTABLE:www.messe-offenbach.de

END:VEVENT
END:VCALENDAR
