BEGIN:VCALENDAR
VERSION:2.0
PRODID:Events from www.apparelnews.net
X-WR-CALNAME:Events from www.apparelnews.net
X-WR-CALDESC:Events from www.apparelnews.net
BEGIN:VEVENT
SUMMARY:Northstar Fashion Exhibitors
URL;VALUE=URI:http://www.apparelnews.net/events/2018/mar/04/northstar-fashion-exhibitors-90fc290a/?et=10664
DTSTART:20180304
DESCRIPTION;ENCODING=QUOTED-PRINTABLE:www.northstarfashion.com; (612) 333-5219

END:VEVENT
END:VCALENDAR
